BEGIN:VCALENDAR
VERSION:2.0
PRODID:-//Farmington Flames Baseball and Softball - ECPv6.15.20//NONSGML v1.0//EN
CALSCALE:GREGORIAN
METHOD:PUBLISH
X-WR-CALNAME:Farmington Flames Baseball and Softball
X-ORIGINAL-URL:https://farmingtonflames.org
X-WR-CALDESC:Events for Farmington Flames Baseball and Softball
REFRESH-INTERVAL;VALUE=DURATION:PT1H
X-Robots-Tag:noindex
X-PUBLISHED-TTL:PT1H
BEGIN:VTIMEZONE
TZID:America/Chicago
BEGIN:DAYLIGHT
TZOFFSETFROM:-0600
TZOFFSETTO:-0500
TZNAME:CDT
DTSTART:20240310T080000
END:DAYLIGHT
BEGIN:STANDARD
TZOFFSETFROM:-0500
TZOFFSETTO:-0600
TZNAME:CST
DTSTART:20241103T070000
END:STANDARD
BEGIN:DAYLIGHT
TZOFFSETFROM:-0600
TZOFFSETTO:-0500
TZNAME:CDT
DTSTART:20250309T080000
END:DAYLIGHT
BEGIN:STANDARD
TZOFFSETFROM:-0500
TZOFFSETTO:-0600
TZNAME:CST
DTSTART:20251102T070000
END:STANDARD
BEGIN:DAYLIGHT
TZOFFSETFROM:-0600
TZOFFSETTO:-0500
TZNAME:CDT
DTSTART:20260308T080000
END:DAYLIGHT
BEGIN:STANDARD
TZOFFSETFROM:-0500
TZOFFSETTO:-0600
TZNAME:CST
DTSTART:20261101T070000
END:STANDARD
END:VTIMEZONE
BEGIN:VEVENT
DTSTART;TZID=America/Chicago:20250601T130000
DTEND;TZID=America/Chicago:20250601T130000
DTSTAMP:20260425T055825
CREATED:20240503T044403Z
LAST-MODIFIED:20250501T182412Z
UID:3273-1748782800-1748782800@farmingtonflames.org
SUMMARY:RRL @ Helenville
DESCRIPTION:RRL Farmington Flames vs Helenville Rebels \n@ Helenville -Fireman’s Park \n1PM
URL:https://farmingtonflames.org/calendar/rrl-a-helenville/
LOCATION:Helenville – Fireman’s Park\, 4825 Parkview Dr.\, Helenville\, Wisconsin\, 53137\, United States
CATEGORIES:Rock River League
ATTACH;FMTTYPE=image/jpeg:https://farmingtonflames.org/wp-content/uploads/2023/05/flamesRRL2.jpg
END:VEVENT
BEGIN:VEVENT
DTSTART;TZID=America/Chicago:20250606T193000
DTEND;TZID=America/Chicago:20250606T193000
DTSTAMP:20260425T055825
CREATED:20240501T060553Z
LAST-MODIFIED:20250501T191438Z
UID:2719-1749238200-1749238200@farmingtonflames.org
SUMMARY:RRL @ Milton
DESCRIPTION:Away. \nRRL Farmington Flames vs. Milton Crescents \n1st Pitch 7:30PM
URL:https://farmingtonflames.org/calendar/rrl-flames-milton-crescents/
LOCATION:Milton – Schilberg Park\, 301 W High St\,\, Milton\, Wisconsin\, 53563\, United States
CATEGORIES:Rock River League
ATTACH;FMTTYPE=image/jpeg:https://farmingtonflames.org/wp-content/uploads/2023/05/flamesRRL2.jpg
END:VEVENT
BEGIN:VEVENT
DTSTART;TZID=America/Chicago:20250614T130000
DTEND;TZID=America/Chicago:20250614T130000
DTSTAMP:20260425T055825
CREATED:20240501T133638Z
LAST-MODIFIED:20250501T191459Z
UID:2702-1749906000-1749906000@farmingtonflames.org
SUMMARY:RRL (HOME) vs. Rubicon
DESCRIPTION:HOME GAME. \nRRL Farmington Flames vs Rubicon Red Sox \n@Farmington Fields \n1PM first pitch
URL:https://farmingtonflames.org/calendar/rrl-flames-h-vs-rubicon-red-sox/
LOCATION:Farmington Fields\, W3027 County Rd B\, Watertown\, WI\, 53094\, United States
CATEGORIES:Rock River League
ATTACH;FMTTYPE=image/jpeg:https://farmingtonflames.org/wp-content/uploads/2023/05/flamesRRL2.jpg
END:VEVENT
BEGIN:VEVENT
DTSTART;TZID=America/Chicago:20250615T130000
DTEND;TZID=America/Chicago:20250615T150000
DTSTAMP:20260425T055825
CREATED:20240502T061608Z
LAST-MODIFIED:20250501T191102Z
UID:2695-1749992400-1749999600@farmingtonflames.org
SUMMARY:RRL @ Lebanon
DESCRIPTION:AWAY GAME.\nRock River League\nFarmington Flames vs. Lebanon Whitetails @ Lebanon – Fireman’s Park \n1PM START
URL:https://farmingtonflames.org/calendar/rrl-flames-lebanon-whitetails/
LOCATION:Lebanon-Fireman’s Park\, Fireman's Park\, Watertown\, Wisconsin\, 53098\, United States
CATEGORIES:Rock River League
ATTACH;FMTTYPE=image/jpeg:https://farmingtonflames.org/wp-content/uploads/2023/05/flamesRRL2.jpg
END:VEVENT
BEGIN:VEVENT
DTSTART;TZID=America/Chicago:20250622T130000
DTEND;TZID=America/Chicago:20250622T130000
DTSTAMP:20260425T055825
CREATED:20240502T064044Z
LAST-MODIFIED:20250501T191512Z
UID:2705-1750597200-1750597200@farmingtonflames.org
SUMMARY:RRL  (HOME) vs. Helenville
DESCRIPTION:HOME GAME \nRRL Farmington Flames vs. Helenville Rebels \n@Farmington Fields \n1PM first pitch!
URL:https://farmingtonflames.org/calendar/rrl-flames-h-vs-helenville-rebels-2/
LOCATION:Farmington Fields\, W3027 County Rd B\, Watertown\, WI\, 53094\, United States
CATEGORIES:Rock River League
ATTACH;FMTTYPE=image/jpeg:https://farmingtonflames.org/wp-content/uploads/2023/05/flamesRRL2.jpg
END:VEVENT
BEGIN:VEVENT
DTSTART;TZID=America/Chicago:20250628T130000
DTEND;TZID=America/Chicago:20250628T150000
DTSTAMP:20260425T055825
CREATED:20250501T182026Z
LAST-MODIFIED:20250501T182256Z
UID:3840-1751115600-1751122800@farmingtonflames.org
SUMMARY:RRL (HOME) vs. Neosho
DESCRIPTION:RRL Farmington Flames vs. Neosho Rockets @ Farmington Fields \n1PM first pitch
URL:https://farmingtonflames.org/calendar/rrl-home-vs-neosho/
LOCATION:Farmington Fields\, W3027 County Rd B\, Watertown\, WI\, 53094\, United States
CATEGORIES:Rock River League
ATTACH;FMTTYPE=image/jpeg:https://farmingtonflames.org/wp-content/uploads/2023/05/flamesRRL2.jpg
END:VEVENT
END:VCALENDAR