BEGIN:VCALENDAR
VERSION:2.0
PRODID:-//Farmington Flames Baseball and Softball - ECPv6.15.20//NONSGML v1.0//EN
CALSCALE:GREGORIAN
METHOD:PUBLISH
X-WR-CALNAME:Farmington Flames Baseball and Softball
X-ORIGINAL-URL:https://farmingtonflames.org
X-WR-CALDESC:Events for Farmington Flames Baseball and Softball
REFRESH-INTERVAL;VALUE=DURATION:PT1H
X-Robots-Tag:noindex
X-PUBLISHED-TTL:PT1H
BEGIN:VTIMEZONE
TZID:America/Chicago
BEGIN:DAYLIGHT
TZOFFSETFROM:-0600
TZOFFSETTO:-0500
TZNAME:CDT
DTSTART:20240310T080000
END:DAYLIGHT
BEGIN:STANDARD
TZOFFSETFROM:-0500
TZOFFSETTO:-0600
TZNAME:CST
DTSTART:20241103T070000
END:STANDARD
BEGIN:DAYLIGHT
TZOFFSETFROM:-0600
TZOFFSETTO:-0500
TZNAME:CDT
DTSTART:20250309T080000
END:DAYLIGHT
BEGIN:STANDARD
TZOFFSETFROM:-0500
TZOFFSETTO:-0600
TZNAME:CST
DTSTART:20251102T070000
END:STANDARD
BEGIN:DAYLIGHT
TZOFFSETFROM:-0600
TZOFFSETTO:-0500
TZNAME:CDT
DTSTART:20260308T080000
END:DAYLIGHT
BEGIN:STANDARD
TZOFFSETFROM:-0500
TZOFFSETTO:-0600
TZNAME:CST
DTSTART:20261101T070000
END:STANDARD
END:VTIMEZONE
BEGIN:VEVENT
DTSTART;TZID=America/Chicago:20250712T130000
DTEND;TZID=America/Chicago:20250712T130000
DTSTAMP:20260425T060045
CREATED:20240501T080846Z
LAST-MODIFIED:20250501T191941Z
UID:2691-1752325200-1752325200@farmingtonflames.org
SUMMARY:RRL @ Rubicon
DESCRIPTION:AWAY GAME. \nRRL Farmington Flames @ Rubicon Red Sox \n1PM in Rubicon ST. John’s Park
URL:https://farmingtonflames.org/calendar/rrl-flames-rubicon-red-sox/
LOCATION:Rubicon – St. Johns Park\, W1170 Rome Rd\, Rubicon\, Wisconsin\, 53078
CATEGORIES:Rock River League
ATTACH;FMTTYPE=image/jpeg:https://farmingtonflames.org/wp-content/uploads/2023/05/flamesRRL2.jpg
END:VEVENT
END:VCALENDAR