BEGIN:VCALENDAR
VERSION:2.0
PRODID:-//Farmington Flames Baseball and Softball - ECPv6.15.20//NONSGML v1.0//EN
CALSCALE:GREGORIAN
METHOD:PUBLISH
X-ORIGINAL-URL:https://farmingtonflames.org
X-WR-CALDESC:Events for Farmington Flames Baseball and Softball
REFRESH-INTERVAL;VALUE=DURATION:PT1H
X-Robots-Tag:noindex
X-PUBLISHED-TTL:PT1H
BEGIN:VTIMEZONE
TZID:America/Chicago
BEGIN:DAYLIGHT
TZOFFSETFROM:-0600
TZOFFSETTO:-0500
TZNAME:CDT
DTSTART:20240310T080000
END:DAYLIGHT
BEGIN:STANDARD
TZOFFSETFROM:-0500
TZOFFSETTO:-0600
TZNAME:CST
DTSTART:20241103T070000
END:STANDARD
BEGIN:DAYLIGHT
TZOFFSETFROM:-0600
TZOFFSETTO:-0500
TZNAME:CDT
DTSTART:20250309T080000
END:DAYLIGHT
BEGIN:STANDARD
TZOFFSETFROM:-0500
TZOFFSETTO:-0600
TZNAME:CST
DTSTART:20251102T070000
END:STANDARD
BEGIN:DAYLIGHT
TZOFFSETFROM:-0600
TZOFFSETTO:-0500
TZNAME:CDT
DTSTART:20260308T080000
END:DAYLIGHT
BEGIN:STANDARD
TZOFFSETFROM:-0500
TZOFFSETTO:-0600
TZNAME:CST
DTSTART:20261101T070000
END:STANDARD
END:VTIMEZONE
BEGIN:VEVENT
DTSTART;TZID=America/Chicago:20250725T193000
DTEND;TZID=America/Chicago:20250725T193000
DTSTAMP:20260424T161957
CREATED:20250501T192653Z
LAST-MODIFIED:20250501T192653Z
UID:3844-1753471800-1753471800@farmingtonflames.org
SUMMARY:RRL @ Lebanon
DESCRIPTION:AWAY GAME.\nRock River League\nFarmington Flames vs. Lebanon Whitetails @ Lebanon – Fireman’s Park \n1PM START
URL:https://farmingtonflames.org/calendar/rrl-lebanon/
LOCATION:Lebanon-Fireman’s Park\, Fireman's Park\, Watertown\, Wisconsin\, 53098\, United States
CATEGORIES:Rock River League
ATTACH;FMTTYPE=image/jpeg:https://farmingtonflames.org/wp-content/uploads/2023/05/flamesRRL2.jpg
END:VEVENT
BEGIN:VEVENT
DTSTART;TZID=America/Chicago:20250720T130000
DTEND;TZID=America/Chicago:20250720T130000
DTSTAMP:20260424T161957
CREATED:20240502T060047Z
LAST-MODIFIED:20250501T181449Z
UID:2693-1753016400-1753016400@farmingtonflames.org
SUMMARY:RRL (HOME) vs. Neosho
DESCRIPTION:RRL Farmington Flames vs. Neosho Rockets @ Farmington Fields \n1PM first pitch \n 
URL:https://farmingtonflames.org/calendar/rrl-flames-h-vs-neosho-rockets/
LOCATION:Farmington Fields\, W3027 County Rd B\, Watertown\, WI\, 53094\, United States
CATEGORIES:Rock River League
ATTACH;FMTTYPE=image/jpeg:https://farmingtonflames.org/wp-content/uploads/2023/05/flamesRRL2.jpg
END:VEVENT
BEGIN:VEVENT
DTSTART;TZID=America/Chicago:20250718T174500
DTEND;TZID=America/Chicago:20250718T174500
DTSTAMP:20260424T161957
CREATED:20240501T203934Z
LAST-MODIFIED:20250501T192807Z
UID:2673-1752860700-1752860700@farmingtonflames.org
SUMMARY:RRL  @ Clyman
DESCRIPTION:AWAY GAME.\nFarmington Flames @ Clyman Canners\nin CLyman @ Fireman’s Park \n 5:45 PM
URL:https://farmingtonflames.org/calendar/rrl-flames-clyman-canners/
LOCATION:Clyman – Stueber Field\, Fireman's Park\, Juneau\, WI\, 53039\, United States
CATEGORIES:Rock River League
ATTACH;FMTTYPE=image/jpeg:https://farmingtonflames.org/wp-content/uploads/2023/05/flamesRRL2.jpg
END:VEVENT
BEGIN:VEVENT
DTSTART;TZID=America/Chicago:20250713T130000
DTEND;TZID=America/Chicago:20250713T130000
DTSTAMP:20260424T161957
CREATED:20240501T132703Z
LAST-MODIFIED:20250623T215138Z
UID:2699-1752411600-1752411600@farmingtonflames.org
SUMMARY:RRL (HOME) vs. Johnson Creek
DESCRIPTION:HOME GAME\nRRL Farmington Flames Vs. Johnson Creek Pioneers\n@ Farmington \n1:00 PM  start time.
URL:https://farmingtonflames.org/calendar/rrl-flames-johnson-creek-pioneers/
LOCATION:Farmington Fields\, W3027 County Rd B\, Watertown\, WI\, 53094\, United States
CATEGORIES:Rock River League
ATTACH;FMTTYPE=image/jpeg:https://farmingtonflames.org/wp-content/uploads/2023/05/flamesRRL2.jpg
END:VEVENT
BEGIN:VEVENT
DTSTART;TZID=America/Chicago:20250712T130000
DTEND;TZID=America/Chicago:20250712T130000
DTSTAMP:20260424T161957
CREATED:20240501T080846Z
LAST-MODIFIED:20250501T191941Z
UID:2691-1752325200-1752325200@farmingtonflames.org
SUMMARY:RRL @ Rubicon
DESCRIPTION:AWAY GAME. \nRRL Farmington Flames @ Rubicon Red Sox \n1PM in Rubicon ST. John’s Park
URL:https://farmingtonflames.org/calendar/rrl-flames-rubicon-red-sox/
LOCATION:Rubicon – St. Johns Park\, W1170 Rome Rd\, Rubicon\, Wisconsin\, 53078
CATEGORIES:Rock River League
ATTACH;FMTTYPE=image/jpeg:https://farmingtonflames.org/wp-content/uploads/2023/05/flamesRRL2.jpg
END:VEVENT
BEGIN:VEVENT
DTSTART;TZID=America/Chicago:20250706T130000
DTEND;TZID=America/Chicago:20250706T130000
DTSTAMP:20260424T161957
CREATED:20240502T064426Z
LAST-MODIFIED:20250501T191736Z
UID:2707-1751806800-1751806800@farmingtonflames.org
SUMMARY:RRL (HOME) vs. Milton
DESCRIPTION:HOME GAME. \nRRL Farmington Flames vs. Milton Crescents \n@Farmington Feilds \nSATURDAY  1PM Start Time \n 
URL:https://farmingtonflames.org/calendar/rrl-flames-h-vs-milton-crescents/
LOCATION:Farmington Fields\, W3027 County Rd B\, Watertown\, WI\, 53094\, United States
CATEGORIES:Rock River League
ATTACH;FMTTYPE=image/jpeg:https://farmingtonflames.org/wp-content/uploads/2023/05/flamesRRL2.jpg
END:VEVENT
BEGIN:VEVENT
DTSTART;TZID=America/Chicago:20250628T130000
DTEND;TZID=America/Chicago:20250628T150000
DTSTAMP:20260424T161957
CREATED:20250501T182026Z
LAST-MODIFIED:20250501T182256Z
UID:3840-1751115600-1751122800@farmingtonflames.org
SUMMARY:RRL (HOME) vs. Neosho
DESCRIPTION:RRL Farmington Flames vs. Neosho Rockets @ Farmington Fields \n1PM first pitch
URL:https://farmingtonflames.org/calendar/rrl-home-vs-neosho/
LOCATION:Farmington Fields\, W3027 County Rd B\, Watertown\, WI\, 53094\, United States
CATEGORIES:Rock River League
ATTACH;FMTTYPE=image/jpeg:https://farmingtonflames.org/wp-content/uploads/2023/05/flamesRRL2.jpg
END:VEVENT
BEGIN:VEVENT
DTSTART;TZID=America/Chicago:20250622T130000
DTEND;TZID=America/Chicago:20250622T130000
DTSTAMP:20260424T161957
CREATED:20240502T064044Z
LAST-MODIFIED:20250501T191512Z
UID:2705-1750597200-1750597200@farmingtonflames.org
SUMMARY:RRL  (HOME) vs. Helenville
DESCRIPTION:HOME GAME \nRRL Farmington Flames vs. Helenville Rebels \n@Farmington Fields \n1PM first pitch!
URL:https://farmingtonflames.org/calendar/rrl-flames-h-vs-helenville-rebels-2/
LOCATION:Farmington Fields\, W3027 County Rd B\, Watertown\, WI\, 53094\, United States
CATEGORIES:Rock River League
ATTACH;FMTTYPE=image/jpeg:https://farmingtonflames.org/wp-content/uploads/2023/05/flamesRRL2.jpg
END:VEVENT
BEGIN:VEVENT
DTSTART;TZID=America/Chicago:20250615T130000
DTEND;TZID=America/Chicago:20250615T150000
DTSTAMP:20260424T161957
CREATED:20240502T061608Z
LAST-MODIFIED:20250501T191102Z
UID:2695-1749992400-1749999600@farmingtonflames.org
SUMMARY:RRL @ Lebanon
DESCRIPTION:AWAY GAME.\nRock River League\nFarmington Flames vs. Lebanon Whitetails @ Lebanon – Fireman’s Park \n1PM START
URL:https://farmingtonflames.org/calendar/rrl-flames-lebanon-whitetails/
LOCATION:Lebanon-Fireman’s Park\, Fireman's Park\, Watertown\, Wisconsin\, 53098\, United States
CATEGORIES:Rock River League
ATTACH;FMTTYPE=image/jpeg:https://farmingtonflames.org/wp-content/uploads/2023/05/flamesRRL2.jpg
END:VEVENT
BEGIN:VEVENT
DTSTART;TZID=America/Chicago:20250614T130000
DTEND;TZID=America/Chicago:20250614T130000
DTSTAMP:20260424T161957
CREATED:20240501T133638Z
LAST-MODIFIED:20250501T191459Z
UID:2702-1749906000-1749906000@farmingtonflames.org
SUMMARY:RRL (HOME) vs. Rubicon
DESCRIPTION:HOME GAME. \nRRL Farmington Flames vs Rubicon Red Sox \n@Farmington Fields \n1PM first pitch
URL:https://farmingtonflames.org/calendar/rrl-flames-h-vs-rubicon-red-sox/
LOCATION:Farmington Fields\, W3027 County Rd B\, Watertown\, WI\, 53094\, United States
CATEGORIES:Rock River League
ATTACH;FMTTYPE=image/jpeg:https://farmingtonflames.org/wp-content/uploads/2023/05/flamesRRL2.jpg
END:VEVENT
BEGIN:VEVENT
DTSTART;TZID=America/Chicago:20250606T193000
DTEND;TZID=America/Chicago:20250606T193000
DTSTAMP:20260424T161957
CREATED:20240501T060553Z
LAST-MODIFIED:20250501T191438Z
UID:2719-1749238200-1749238200@farmingtonflames.org
SUMMARY:RRL @ Milton
DESCRIPTION:Away. \nRRL Farmington Flames vs. Milton Crescents \n1st Pitch 7:30PM
URL:https://farmingtonflames.org/calendar/rrl-flames-milton-crescents/
LOCATION:Milton – Schilberg Park\, 301 W High St\,\, Milton\, Wisconsin\, 53563\, United States
CATEGORIES:Rock River League
ATTACH;FMTTYPE=image/jpeg:https://farmingtonflames.org/wp-content/uploads/2023/05/flamesRRL2.jpg
END:VEVENT
BEGIN:VEVENT
DTSTART;TZID=America/Chicago:20250601T130000
DTEND;TZID=America/Chicago:20250601T130000
DTSTAMP:20260424T161957
CREATED:20240503T044403Z
LAST-MODIFIED:20250501T182412Z
UID:3273-1748782800-1748782800@farmingtonflames.org
SUMMARY:RRL @ Helenville
DESCRIPTION:RRL Farmington Flames vs Helenville Rebels \n@ Helenville -Fireman’s Park \n1PM
URL:https://farmingtonflames.org/calendar/rrl-a-helenville/
LOCATION:Helenville – Fireman’s Park\, 4825 Parkview Dr.\, Helenville\, Wisconsin\, 53137\, United States
CATEGORIES:Rock River League
ATTACH;FMTTYPE=image/jpeg:https://farmingtonflames.org/wp-content/uploads/2023/05/flamesRRL2.jpg
END:VEVENT
BEGIN:VEVENT
DTSTART;TZID=America/Chicago:20250525T130000
DTEND;TZID=America/Chicago:20250525T130000
DTSTAMP:20260424T161957
CREATED:20240502T080047Z
LAST-MODIFIED:20250501T181347Z
UID:2709-1748178000-1748178000@farmingtonflames.org
SUMMARY:RRL @ Neosho
DESCRIPTION:AWAY GAME. \nRRL Farmington Flames vs Neosho Rocekts \n@ Neosho – Village Park \n1PM
URL:https://farmingtonflames.org/calendar/rrl-flames-neosho-rockets/
LOCATION:Neosho – Village Park\, 112 Hale Rd\, Neosho\, Neosho\, Wisconsin\, 53059\, United States
CATEGORIES:Rock River League
ATTACH;FMTTYPE=image/jpeg:https://farmingtonflames.org/wp-content/uploads/2023/05/flamesRRL2.jpg
END:VEVENT
BEGIN:VEVENT
DTSTART;TZID=America/Chicago:20250518T130000
DTEND;TZID=America/Chicago:20250518T130000
DTSTAMP:20260424T161957
CREATED:20240505T212638Z
LAST-MODIFIED:20250501T181110Z
UID:3472-1747573200-1747573200@farmingtonflames.org
SUMMARY:RRL (HOME) vs. Lebanon
DESCRIPTION:HOME GAME.\nRock River League \nFarmington Flames vs. Lebanon Whitetails \n1:00PM START
URL:https://farmingtonflames.org/calendar/rrl-home-vs-lebanon/
LOCATION:Farmington Fields\, W3027 County Rd B\, Watertown\, WI\, 53094\, United States
CATEGORIES:Rock River League
ATTACH;FMTTYPE=image/jpeg:https://farmingtonflames.org/wp-content/uploads/2023/05/flamesRRL2.jpg
END:VEVENT
BEGIN:VEVENT
DTSTART;TZID=America/Chicago:20250511T130000
DTEND;TZID=America/Chicago:20250511T130000
DTSTAMP:20260424T161957
CREATED:20240503T030434Z
LAST-MODIFIED:20250501T180823Z
UID:2683-1746968400-1746968400@farmingtonflames.org
SUMMARY:RRL  @ Johnson Creek
DESCRIPTION:AWAY GAME\nFarmington Flames  vs Johnson Creek Pioneers\n@ Johnson Creek – Braunschweig Family Field \nStart time is 1:00 pm
URL:https://farmingtonflames.org/calendar/flames-home-vs-johnson-creek-pioneers/
LOCATION:Johnson Creek – braunschweig Family Field\, 511 Union St\, Johnson Creek\, WI\, 53038\, United States
CATEGORIES:Rock River League
ATTACH;FMTTYPE=image/jpeg:https://farmingtonflames.org/wp-content/uploads/2023/05/flamesRRL2.jpg
END:VEVENT
BEGIN:VEVENT
DTSTART;TZID=America/Chicago:20250504T130000
DTEND;TZID=America/Chicago:20250504T130000
DTSTAMP:20260424T161957
CREATED:20250404T060007Z
LAST-MODIFIED:20250501T180627Z
UID:2727-1746363600-1746363600@farmingtonflames.org
SUMMARY:RRL  (HOME) vs. Clyman
DESCRIPTION:HOME GAME. \nRRL Farmington Flames vs. Clyman Canners \n@ Farmington Fields \n1PM Start time
URL:https://farmingtonflames.org/calendar/rrl-flames-h-vs-clyman-canners/
LOCATION:Farmington Fields\, W3027 County Rd B\, Watertown\, WI\, 53094\, United States
CATEGORIES:Rock River League
ATTACH;FMTTYPE=image/jpeg:https://farmingtonflames.org/wp-content/uploads/2023/05/flamesRRL2.jpg
END:VEVENT
END:VCALENDAR