BEGIN:VCALENDAR
VERSION:2.0
PRODID:-//Farmington Flames Baseball and Softball - ECPv6.15.20//NONSGML v1.0//EN
CALSCALE:GREGORIAN
METHOD:PUBLISH
X-ORIGINAL-URL:https://farmingtonflames.org
X-WR-CALDESC:Events for Farmington Flames Baseball and Softball
REFRESH-INTERVAL;VALUE=DURATION:PT1H
X-Robots-Tag:noindex
X-PUBLISHED-TTL:PT1H
BEGIN:VTIMEZONE
TZID:America/Chicago
BEGIN:DAYLIGHT
TZOFFSETFROM:-0600
TZOFFSETTO:-0500
TZNAME:CDT
DTSTART:20250309T080000
END:DAYLIGHT
BEGIN:STANDARD
TZOFFSETFROM:-0500
TZOFFSETTO:-0600
TZNAME:CST
DTSTART:20251102T070000
END:STANDARD
BEGIN:DAYLIGHT
TZOFFSETFROM:-0600
TZOFFSETTO:-0500
TZNAME:CDT
DTSTART:20260308T080000
END:DAYLIGHT
BEGIN:STANDARD
TZOFFSETFROM:-0500
TZOFFSETTO:-0600
TZNAME:CST
DTSTART:20261101T070000
END:STANDARD
BEGIN:DAYLIGHT
TZOFFSETFROM:-0600
TZOFFSETTO:-0500
TZNAME:CDT
DTSTART:20270314T080000
END:DAYLIGHT
BEGIN:STANDARD
TZOFFSETFROM:-0500
TZOFFSETTO:-0600
TZNAME:CST
DTSTART:20271107T070000
END:STANDARD
END:VTIMEZONE
BEGIN:VEVENT
DTSTART;TZID=America/Chicago:20260807T170000
DTEND;TZID=America/Chicago:20260807T170000
DTSTAMP:20260425T054218
CREATED:20260416T164631Z
LAST-MODIFIED:20260416T164631Z
UID:4307-1786122000-1786122000@farmingtonflames.org
SUMMARY:Co-ed Softball Tournament
DESCRIPTION:
URL:https://farmingtonflames.org/calendar/co-ed-softball-tournament/
END:VEVENT
BEGIN:VEVENT
DTSTART;TZID=America/Chicago:20260808T100000
DTEND;TZID=America/Chicago:20260808T170000
DTSTAMP:20260425T054218
CREATED:20260416T164702Z
LAST-MODIFIED:20260416T164702Z
UID:4309-1786183200-1786208400@farmingtonflames.org
SUMMARY:Co-ed Softball Tournament
DESCRIPTION:
URL:https://farmingtonflames.org/calendar/co-ed-softball-tournament-2/
END:VEVENT
END:VCALENDAR