BEGIN:VCALENDAR
VERSION:2.0
PRODID:-//Farmington Flames Baseball and Softball - ECPv6.15.20//NONSGML v1.0//EN
CALSCALE:GREGORIAN
METHOD:PUBLISH
X-WR-CALNAME:Farmington Flames Baseball and Softball
X-ORIGINAL-URL:https://farmingtonflames.org
X-WR-CALDESC:Events for Farmington Flames Baseball and Softball
REFRESH-INTERVAL;VALUE=DURATION:PT1H
X-Robots-Tag:noindex
X-PUBLISHED-TTL:PT1H
BEGIN:VTIMEZONE
TZID:America/Chicago
BEGIN:DAYLIGHT
TZOFFSETFROM:-0600
TZOFFSETTO:-0500
TZNAME:CDT
DTSTART:20240310T080000
END:DAYLIGHT
BEGIN:STANDARD
TZOFFSETFROM:-0500
TZOFFSETTO:-0600
TZNAME:CST
DTSTART:20241103T070000
END:STANDARD
BEGIN:DAYLIGHT
TZOFFSETFROM:-0600
TZOFFSETTO:-0500
TZNAME:CDT
DTSTART:20250309T080000
END:DAYLIGHT
BEGIN:STANDARD
TZOFFSETFROM:-0500
TZOFFSETTO:-0600
TZNAME:CST
DTSTART:20251102T070000
END:STANDARD
BEGIN:DAYLIGHT
TZOFFSETFROM:-0600
TZOFFSETTO:-0500
TZNAME:CDT
DTSTART:20260308T080000
END:DAYLIGHT
BEGIN:STANDARD
TZOFFSETFROM:-0500
TZOFFSETTO:-0600
TZNAME:CST
DTSTART:20261101T070000
END:STANDARD
END:VTIMEZONE
BEGIN:VEVENT
DTSTART;TZID=America/Chicago:20250605T174500
DTEND;TZID=America/Chicago:20250605T174500
DTSTAMP:20260425T100138
CREATED:20250519T215040Z
LAST-MODIFIED:20250519T215040Z
UID:4131-1749145500-1749145500@farmingtonflames.org
SUMMARY:14U (HOME) VS Watertown - Schroeder
DESCRIPTION:
URL:https://farmingtonflames.org/calendar/14u-home-vs-watertown-schroeder/
LOCATION:Farmington Fields\, W3027 County Rd B\, Watertown\, WI\, 53094\, United States
END:VEVENT
BEGIN:VEVENT
DTSTART;TZID=America/Chicago:20250605T180000
DTEND;TZID=America/Chicago:20250605T180000
DTSTAMP:20260425T100138
CREATED:20250507T001005Z
LAST-MODIFIED:20250507T001005Z
UID:3972-1749146400-1749146400@farmingtonflames.org
SUMMARY:Pony (HOME) vs Prepside
DESCRIPTION:
URL:https://farmingtonflames.org/calendar/pony-home-vs-prepside/
LOCATION:Farmington Fields\, W3027 County Rd B\, Watertown\, WI\, 53094\, United States
END:VEVENT
BEGIN:VEVENT
DTSTART;TZID=America/Chicago:20250605T180000
DTEND;TZID=America/Chicago:20250605T180000
DTSTAMP:20260425T100138
CREATED:20250507T153010Z
LAST-MODIFIED:20250507T153010Z
UID:4071-1749146400-1749146400@farmingtonflames.org
SUMMARY:Tball Navy @ Ixonia  Red
DESCRIPTION:
URL:https://farmingtonflames.org/calendar/tball-navy-ixonia-red/
LOCATION:Ixonia Ski Slide\, N7935 Ski Slide Rd\, Ixonia\, WI\, 53036\, United States
END:VEVENT
BEGIN:VEVENT
DTSTART;TZID=America/Chicago:20250606T193000
DTEND;TZID=America/Chicago:20250606T193000
DTSTAMP:20260425T100138
CREATED:20240501T060553Z
LAST-MODIFIED:20250501T191438Z
UID:2719-1749238200-1749238200@farmingtonflames.org
SUMMARY:RRL @ Milton
DESCRIPTION:Away. \nRRL Farmington Flames vs. Milton Crescents \n1st Pitch 7:30PM
URL:https://farmingtonflames.org/calendar/rrl-flames-milton-crescents/
LOCATION:Milton – Schilberg Park\, 301 W High St\,\, Milton\, Wisconsin\, 53563\, United States
CATEGORIES:Rock River League
ATTACH;FMTTYPE=image/jpeg:https://farmingtonflames.org/wp-content/uploads/2023/05/flamesRRL2.jpg
END:VEVENT
BEGIN:VEVENT
DTSTART;TZID=America/Chicago:20250609T174500
DTEND;TZID=America/Chicago:20250609T174500
DTSTAMP:20260425T100138
CREATED:20250507T201323Z
LAST-MODIFIED:20250527T162638Z
UID:4088-1749491100-1749491100@farmingtonflames.org
SUMMARY:10U @ Milton - Lanser
DESCRIPTION:
URL:https://farmingtonflames.org/calendar/10u-waterloo-skalitsky/
END:VEVENT
BEGIN:VEVENT
DTSTART;TZID=America/Chicago:20250609T180000
DTEND;TZID=America/Chicago:20250609T180000
DTSTAMP:20260425T100138
CREATED:20250507T002145Z
LAST-MODIFIED:20250507T002145Z
UID:3986-1749492000-1749492000@farmingtonflames.org
SUMMARY:Pee Wee Lt Blue (HOME) vs Lebanon
DESCRIPTION:
URL:https://farmingtonflames.org/calendar/pee-wee-lt-blue-home-vs-lebanon/
LOCATION:Farmington Fields\, W3027 County Rd B\, Watertown\, WI\, 53094\, United States
END:VEVENT
BEGIN:VEVENT
DTSTART;TZID=America/Chicago:20250610T174500
DTEND;TZID=America/Chicago:20250610T174500
DTSTAMP:20260425T100138
CREATED:20250519T214653Z
LAST-MODIFIED:20250519T214653Z
UID:4123-1749577500-1749577500@farmingtonflames.org
SUMMARY:12U (HOME) VS Lake Mills - Boettcher
DESCRIPTION:
URL:https://farmingtonflames.org/calendar/12u-home-vs-lake-mills-boettcher/
LOCATION:Farmington Fields\, W3027 County Rd B\, Watertown\, WI\, 53094\, United States
END:VEVENT
BEGIN:VEVENT
DTSTART;TZID=America/Chicago:20250611T180000
DTEND;TZID=America/Chicago:20250611T180000
DTSTAMP:20260425T100138
CREATED:20250507T010112Z
LAST-MODIFIED:20250507T010112Z
UID:4024-1749664800-1749664800@farmingtonflames.org
SUMMARY:Jr Pee Wee @  Ixonia Orange
DESCRIPTION:
URL:https://farmingtonflames.org/calendar/jr-pee-wee-ixonia-orange/
LOCATION:Ixonia Ski Slide\, N7935 Ski Slide Rd\, Ixonia\, WI\, 53036\, United States
END:VEVENT
BEGIN:VEVENT
DTSTART;TZID=America/Chicago:20250611T180000
DTEND;TZID=America/Chicago:20250611T180000
DTSTAMP:20260425T100138
CREATED:20250507T011607Z
LAST-MODIFIED:20250507T011607Z
UID:4047-1749664800-1749664800@farmingtonflames.org
SUMMARY:Pee Wee Navy @ Johnson Creek
DESCRIPTION:
URL:https://farmingtonflames.org/calendar/pee-wee-navy-johnson-creek/
END:VEVENT
BEGIN:VEVENT
DTSTART;TZID=America/Chicago:20250612T174500
DTEND;TZID=America/Chicago:20250612T174500
DTSTAMP:20260425T100138
CREATED:20250519T215040Z
LAST-MODIFIED:20250519T215040Z
UID:4132-1749750300-1749750300@farmingtonflames.org
SUMMARY:14U (HOME) VS EMLL Gold - Mueller
DESCRIPTION:
URL:https://farmingtonflames.org/calendar/14u-home-vs-emll-gold-mueller/
LOCATION:Farmington Fields\, W3027 County Rd B\, Watertown\, WI\, 53094\, United States
END:VEVENT
BEGIN:VEVENT
DTSTART;TZID=America/Chicago:20250612T180000
DTEND;TZID=America/Chicago:20250612T180000
DTSTAMP:20260425T100138
CREATED:20250507T001005Z
LAST-MODIFIED:20250507T001005Z
UID:3973-1749751200-1749751200@farmingtonflames.org
SUMMARY:Pony @ Clyman
DESCRIPTION:
URL:https://farmingtonflames.org/calendar/pony-clyman/
LOCATION:Clyman – Stueber Field\, Fireman's Park\, Juneau\, WI\, 53039\, United States
END:VEVENT
BEGIN:VEVENT
DTSTART;TZID=America/Chicago:20250612T180000
DTEND;TZID=America/Chicago:20250612T180000
DTSTAMP:20260425T100138
CREATED:20250507T002145Z
LAST-MODIFIED:20250507T002145Z
UID:3987-1749751200-1749751200@farmingtonflames.org
SUMMARY:Pee Wee Lt Blue @ Prepside - Red
DESCRIPTION:
URL:https://farmingtonflames.org/calendar/pee-wee-lt-blue-prepside-red/
LOCATION:Lakeside Lutheran HS\, 231 Woodland Beach Rd\, Lake Mills\, 53551
END:VEVENT
BEGIN:VEVENT
DTSTART;TZID=America/Chicago:20250613T173000
DTEND;TZID=America/Chicago:20250613T173000
DTSTAMP:20260425T100138
CREATED:20250507T153010Z
LAST-MODIFIED:20250512T193616Z
UID:4072-1749835800-1749835800@farmingtonflames.org
SUMMARY:Tball Navy (HOME) vs Johnson Creek  Yellow
DESCRIPTION:
URL:https://farmingtonflames.org/calendar/tball-navy-home-vs-johnson-creek-yellow/
LOCATION:Farmington Fields\, W3027 County Rd B\, Watertown\, WI\, 53094\, United States
END:VEVENT
BEGIN:VEVENT
DTSTART;TZID=America/Chicago:20250613T180000
DTEND;TZID=America/Chicago:20250613T180000
DTSTAMP:20260425T100138
CREATED:20250507T011608Z
LAST-MODIFIED:20250507T011608Z
UID:4048-1749837600-1749837600@farmingtonflames.org
SUMMARY:Pee Wee Navy (HOME) vs Clyman Red
DESCRIPTION:
URL:https://farmingtonflames.org/calendar/pee-wee-navy-home-vs-clyman-red/
END:VEVENT
BEGIN:VEVENT
DTSTART;TZID=America/Chicago:20250614T100000
DTEND;TZID=America/Chicago:20250614T100000
DTSTAMP:20260425T100138
CREATED:20250507T010112Z
LAST-MODIFIED:20250507T010112Z
UID:4025-1749895200-1749895200@farmingtonflames.org
SUMMARY:Jr Pee Wee (HOME) vs Ixonia Red
DESCRIPTION:
URL:https://farmingtonflames.org/calendar/jr-pee-wee-home-vs-ixonia-red/
LOCATION:Farmington Fields\, W3027 County Rd B\, Watertown\, WI\, 53094\, United States
END:VEVENT
BEGIN:VEVENT
DTSTART;TZID=America/Chicago:20250614T111500
DTEND;TZID=America/Chicago:20250614T111500
DTSTAMP:20260425T100138
CREATED:20250507T145451Z
LAST-MODIFIED:20250507T145451Z
UID:4061-1749899700-1749899700@farmingtonflames.org
SUMMARY:T-Ball Lt Blue (HOME) vs Johnson Creek Dark Blue
DESCRIPTION:
URL:https://farmingtonflames.org/calendar/t-ball-lt-blue-home-vs-johnson-creek-dark-blue/
LOCATION:Farmington Fields\, W3027 County Rd B\, Watertown\, WI\, 53094\, United States
END:VEVENT
BEGIN:VEVENT
DTSTART;TZID=America/Chicago:20250614T123000
DTEND;TZID=America/Chicago:20250614T123000
DTSTAMP:20260425T100138
CREATED:20250507T002146Z
LAST-MODIFIED:20250507T153412Z
UID:3988-1749904200-1749904200@farmingtonflames.org
SUMMARY:Pee Wee Lt Blue (HOME) vs Ixonia Red
DESCRIPTION:
URL:https://farmingtonflames.org/calendar/pee-wee-lt-blue-home-vs/
LOCATION:Farmington Fields\, W3027 County Rd B\, Watertown\, WI\, 53094\, United States
CATEGORIES:Pee Wee Lt Blue
ATTACH;FMTTYPE=image/jpeg:https://farmingtonflames.org/wp-content/uploads/2023/05/flamesPeeWee1-e1706212547891.jpg
END:VEVENT
BEGIN:VEVENT
DTSTART;TZID=America/Chicago:20250614T130000
DTEND;TZID=America/Chicago:20250614T130000
DTSTAMP:20260425T100138
CREATED:20240501T133638Z
LAST-MODIFIED:20250501T191459Z
UID:2702-1749906000-1749906000@farmingtonflames.org
SUMMARY:RRL (HOME) vs. Rubicon
DESCRIPTION:HOME GAME. \nRRL Farmington Flames vs Rubicon Red Sox \n@Farmington Fields \n1PM first pitch
URL:https://farmingtonflames.org/calendar/rrl-flames-h-vs-rubicon-red-sox/
LOCATION:Farmington Fields\, W3027 County Rd B\, Watertown\, WI\, 53094\, United States
CATEGORIES:Rock River League
ATTACH;FMTTYPE=image/jpeg:https://farmingtonflames.org/wp-content/uploads/2023/05/flamesRRL2.jpg
END:VEVENT
BEGIN:VEVENT
DTSTART;TZID=America/Chicago:20250615T130000
DTEND;TZID=America/Chicago:20250615T150000
DTSTAMP:20260425T100138
CREATED:20240502T061608Z
LAST-MODIFIED:20250501T191102Z
UID:2695-1749992400-1749999600@farmingtonflames.org
SUMMARY:RRL @ Lebanon
DESCRIPTION:AWAY GAME.\nRock River League\nFarmington Flames vs. Lebanon Whitetails @ Lebanon – Fireman’s Park \n1PM START
URL:https://farmingtonflames.org/calendar/rrl-flames-lebanon-whitetails/
LOCATION:Lebanon-Fireman’s Park\, Fireman's Park\, Watertown\, Wisconsin\, 53098\, United States
CATEGORIES:Rock River League
ATTACH;FMTTYPE=image/jpeg:https://farmingtonflames.org/wp-content/uploads/2023/05/flamesRRL2.jpg
END:VEVENT
BEGIN:VEVENT
DTSTART;TZID=America/Chicago:20250616T173000
DTEND;TZID=America/Chicago:20250616T173000
DTSTAMP:20260425T100138
CREATED:20250507T145451Z
LAST-MODIFIED:20250507T145451Z
UID:4062-1750095000-1750095000@farmingtonflames.org
SUMMARY:T-Ball Lt Blue @ Clyman Cardinal
DESCRIPTION:
URL:https://farmingtonflames.org/calendar/t-ball-lt-blue-clyman-cardinal/
END:VEVENT
BEGIN:VEVENT
DTSTART;TZID=America/Chicago:20250616T174500
DTEND;TZID=America/Chicago:20250616T174500
DTSTAMP:20260425T100138
CREATED:20250507T201323Z
LAST-MODIFIED:20250507T201323Z
UID:4089-1750095900-1750095900@farmingtonflames.org
SUMMARY:10U (HOME) vs Fort JBS - Grady
DESCRIPTION:
URL:https://farmingtonflames.org/calendar/10u-home-vs-fort-jbs-grady/
END:VEVENT
BEGIN:VEVENT
DTSTART;TZID=America/Chicago:20250616T183000
DTEND;TZID=America/Chicago:20250616T183000
DTSTAMP:20260425T100138
CREATED:20250507T153011Z
LAST-MODIFIED:20250507T153011Z
UID:4073-1750098600-1750098600@farmingtonflames.org
SUMMARY:Tball Navy @ Clyman Crimson
DESCRIPTION:
URL:https://farmingtonflames.org/calendar/tball-navy-clyman-crimson/
END:VEVENT
BEGIN:VEVENT
DTSTART;TZID=America/Chicago:20250617T174500
DTEND;TZID=America/Chicago:20250617T174500
DTSTAMP:20260425T100138
CREATED:20250519T214653Z
LAST-MODIFIED:20250519T214653Z
UID:4124-1750182300-1750182300@farmingtonflames.org
SUMMARY:12U (HOME) VS Edgerton - Good
DESCRIPTION:
URL:https://farmingtonflames.org/calendar/12u-home-vs-edgerton-good/
LOCATION:Farmington Fields\, W3027 County Rd B\, Watertown\, WI\, 53094\, United States
END:VEVENT
BEGIN:VEVENT
DTSTART;TZID=America/Chicago:20250617T180000
DTEND;TZID=America/Chicago:20250617T180000
DTSTAMP:20260425T100138
CREATED:20250507T001006Z
LAST-MODIFIED:20250526T133941Z
UID:3975-1750183200-1750183200@farmingtonflames.org
SUMMARY:Pony Away vs Clyman Charcoal
DESCRIPTION:
URL:https://farmingtonflames.org/calendar/pony-home-vs-clyman-charcoal/
LOCATION:Farmington Fields\, W3027 County Rd B\, Watertown\, WI\, 53094\, United States
END:VEVENT
BEGIN:VEVENT
DTSTART;TZID=America/Chicago:20250617T180000
DTEND;TZID=America/Chicago:20250617T180000
DTSTAMP:20260425T100138
CREATED:20250507T011608Z
LAST-MODIFIED:20250519T192131Z
UID:4049-1750183200-1750183200@farmingtonflames.org
SUMMARY:Pee Wee Navy @ Clylman White
DESCRIPTION:
URL:https://farmingtonflames.org/calendar/pee-wee-navy-clylman-red/
END:VEVENT
BEGIN:VEVENT
DTSTART;TZID=America/Chicago:20250619T173000
DTEND;TZID=America/Chicago:20250619T173000
DTSTAMP:20260425T100138
CREATED:20250507T010112Z
LAST-MODIFIED:20250612T154424Z
UID:4026-1750354200-1750354200@farmingtonflames.org
SUMMARY:Jr Pee Wee (HOME) vs Watertown
DESCRIPTION:
URL:https://farmingtonflames.org/calendar/jr-pee-wee-home-vs-watertown/
LOCATION:Farmington Fields\, W3027 County Rd B\, Watertown\, WI\, 53094\, United States
END:VEVENT
BEGIN:VEVENT
DTSTART;TZID=America/Chicago:20250619T174500
DTEND;TZID=America/Chicago:20250619T174500
DTSTAMP:20260425T100138
CREATED:20250519T215041Z
LAST-MODIFIED:20250519T215041Z
UID:4133-1750355100-1750355100@farmingtonflames.org
SUMMARY:14U  @ Madison Monsters - Hartshorn
DESCRIPTION:
URL:https://farmingtonflames.org/calendar/14u-madison-monsters-hartshorn/
END:VEVENT
BEGIN:VEVENT
DTSTART;TZID=America/Chicago:20250619T180000
DTEND;TZID=America/Chicago:20250619T180000
DTSTAMP:20260425T100138
CREATED:20250507T001010Z
LAST-MODIFIED:20250526T134249Z
UID:3976-1750356000-1750356000@farmingtonflames.org
SUMMARY:Pony (home) vs Clyman Charcoal
DESCRIPTION:
URL:https://farmingtonflames.org/calendar/pony-clyman-charcoal/
LOCATION:Farmington Fields\, W3027 County Rd B\, Watertown\, WI\, 53094\, United States
END:VEVENT
BEGIN:VEVENT
DTSTART;TZID=America/Chicago:20250619T180000
DTEND;TZID=America/Chicago:20250619T180000
DTSTAMP:20260425T100138
CREATED:20250507T153011Z
LAST-MODIFIED:20250507T153011Z
UID:4074-1750356000-1750356000@farmingtonflames.org
SUMMARY:Tball Navy @ Johnson Creek  Light Blue
DESCRIPTION:
URL:https://farmingtonflames.org/calendar/tball-navy-johnson-creek-light-blue/
LOCATION:Johnson Creek – Centennial Park\, Midge St.\, Johnson Creek\, WI\, 53038\, United States
END:VEVENT
BEGIN:VEVENT
DTSTART;TZID=America/Chicago:20250621T103000
DTEND;TZID=America/Chicago:20250621T103000
DTSTAMP:20260425T100138
CREATED:20250507T002151Z
LAST-MODIFIED:20250507T002151Z
UID:3990-1750501800-1750501800@farmingtonflames.org
SUMMARY:Pee Wee Lt Blue @ Lebanon
DESCRIPTION:
URL:https://farmingtonflames.org/calendar/pee-wee-lt-blue-lebanon/
END:VEVENT
END:VCALENDAR