BEGIN:VCALENDAR
VERSION:2.0
PRODID:-//Farmington Flames Baseball and Softball - ECPv6.15.20//NONSGML v1.0//EN
CALSCALE:GREGORIAN
METHOD:PUBLISH
X-ORIGINAL-URL:https://farmingtonflames.org
X-WR-CALDESC:Events for Farmington Flames Baseball and Softball
REFRESH-INTERVAL;VALUE=DURATION:PT1H
X-Robots-Tag:noindex
X-PUBLISHED-TTL:PT1H
BEGIN:VTIMEZONE
TZID:America/Chicago
BEGIN:DAYLIGHT
TZOFFSETFROM:-0600
TZOFFSETTO:-0500
TZNAME:CDT
DTSTART:20240310T080000
END:DAYLIGHT
BEGIN:STANDARD
TZOFFSETFROM:-0500
TZOFFSETTO:-0600
TZNAME:CST
DTSTART:20241103T070000
END:STANDARD
BEGIN:DAYLIGHT
TZOFFSETFROM:-0600
TZOFFSETTO:-0500
TZNAME:CDT
DTSTART:20250309T080000
END:DAYLIGHT
BEGIN:STANDARD
TZOFFSETFROM:-0500
TZOFFSETTO:-0600
TZNAME:CST
DTSTART:20251102T070000
END:STANDARD
BEGIN:DAYLIGHT
TZOFFSETFROM:-0600
TZOFFSETTO:-0500
TZNAME:CDT
DTSTART:20260308T080000
END:DAYLIGHT
BEGIN:STANDARD
TZOFFSETFROM:-0500
TZOFFSETTO:-0600
TZNAME:CST
DTSTART:20261101T070000
END:STANDARD
END:VTIMEZONE
BEGIN:VEVENT
DTSTART;TZID=America/Chicago:20250801T170000
DTEND;TZID=America/Chicago:20250802T220000
DTSTAMP:20260424T215251
CREATED:20250717T015852Z
LAST-MODIFIED:20250717T015852Z
UID:4189-1754067600-1754172000@farmingtonflames.org
SUMMARY:Farmington Coed Softball Tournament
DESCRIPTION:– 8 co-ed adult team tournament\, double elimination\n(Team members must be 21)\n-Every team will be required to play on Friday night.\nRemaining games on Saturday\n– $100 Entry Fee\n-100% Entry Fee Payout\nCOME & JOIN US FOR SOME RELAXED SOFTBALL FUN!!
URL:https://farmingtonflames.org/calendar/farmington-coed-softball-tournament/
LOCATION:Farmington Fields\, W3027 County Rd B\, Watertown\, WI\, 53094\, United States
ATTACH;FMTTYPE=image/jpeg:https://farmingtonflames.org/wp-content/uploads/2023/05/flames-coed-tournament1.jpg
END:VEVENT
BEGIN:VEVENT
DTSTART;VALUE=DATE:20250810
DTEND;VALUE=DATE:20250811
DTSTAMP:20260424T215251
CREATED:20250717T020957Z
LAST-MODIFIED:20250717T020957Z
UID:4193-1754784000-1754870399@farmingtonflames.org
SUMMARY:Farmington Flames Golf Outing
DESCRIPTION:
URL:https://farmingtonflames.org/calendar/farmington-flames-golf-outing/
LOCATION:Paganica Golf Course\, 3850 Silver Lake Rd.\, Oconomowoc\, WI\, United States
ATTACH;FMTTYPE=image/jpeg:https://farmingtonflames.org/wp-content/uploads/2022/09/flames-golfouting1.jpg
END:VEVENT
END:VCALENDAR